BEGIN:VCALENDAR
VERSION:2.0
PRODID:-//Sabre//Sabre VObject 4.5.8//EN
CALSCALE:GREGORIAN
BEGIN:VEVENT
UID:criticalmass-one-bielefeld-1479477600
DTSTAMP:20260423T144149Z
SUMMARY:Critical Mass Bielefeld 18.11.2016
DTSTART;TZID=Europe/Berlin:20161118T150000
DTEND;TZID=Europe/Berlin:20161118T170000
URL;VALUE=URI:https://criticalmass.in/bielefeld/2016-11-18
END:VEVENT
END:VCALENDAR
