BEGIN:VCALENDAR
VERSION:2.0
PRODID:-//Sabre//Sabre VObject 4.5.8//EN
CALSCALE:GREGORIAN
BEGIN:VEVENT
UID:criticalmass-one-bielefeld-1452877200
DTSTAMP:20260424T001019Z
SUMMARY:Critical Mass Bielefeld 15.01.2016
DTSTART;TZID=Europe/Berlin:20160115T180000
DTEND;TZID=Europe/Berlin:20160115T200000
LOCATION:Kesselbrink
GEO:52.024145;8.537092
URL;VALUE=URI:https://criticalmass.in/bielefeld/2016-01-15
END:VEVENT
END:VCALENDAR
