BEGIN:VCALENDAR
VERSION:2.0
PRODID:-//Sabre//Sabre VObject 4.5.8//EN
CALSCALE:GREGORIAN
BEGIN:VEVENT
UID:criticalmass-one-bern-1635525900
DTSTAMP:20260421T124343Z
SUMMARY:Critical Mass Bern 29.10.2021
DTSTART;TZID=Europe/Zurich:20211029T184500
DTEND;TZID=Europe/Zurich:20211029T204500
LOCATION:Helvetiaplatz
GEO:46.947136;7.443585
URL;VALUE=URI:https://criticalmass.in/bern/2021-10-29
END:VEVENT
END:VCALENDAR
