BEGIN:VCALENDAR
VERSION:2.0
PRODID:-//Sabre//Sabre VObject 4.5.8//EN
CALSCALE:GREGORIAN
BEGIN:VEVENT
UID:criticalmass-one-bern-1582909200
DTSTAMP:20260421T203841Z
SUMMARY:Critical Mass Bern 28.02.2020
DTSTART;TZID=Europe/Zurich:20200228T180000
DTEND;TZID=Europe/Zurich:20200228T200000
LOCATION:Bundesplatz
GEO:46.947136;7.443585
URL;VALUE=URI:https://criticalmass.in/bern/2020-02-28
END:VEVENT
END:VCALENDAR
