BEGIN:VCALENDAR
VERSION:2.0
PRODID:-//Sabre//Sabre VObject 4.5.8//EN
CALSCALE:GREGORIAN
BEGIN:VEVENT
UID:criticalmass-one-berlin-1695472200
DTSTAMP:20260424T030648Z
SUMMARY:Kidical Mass Berlin-Steglitz-Zehlendorf
DTSTART;TZID=Europe/Berlin:20230923T143000
DTEND;TZID=Europe/Berlin:20230923T163000
LOCATION:Rathaus Steglitz
GEO:52.457082;13.321309
URL;VALUE=URI:https://criticalmass.in/berlin/kidical-mass-berlin-steglitz-z
 ehlendorf
END:VEVENT
END:VCALENDAR
