BEGIN:VCALENDAR
VERSION:2.0
PRODID:-//Sabre//Sabre VObject 4.5.8//EN
CALSCALE:GREGORIAN
BEGIN:VEVENT
UID:criticalmass-one-berlin-1683374400
DTSTAMP:20260422T200117Z
SUMMARY:Kidical Mass Berlin Marzahn-Hellersdorf 06.05.2023
DTSTART;TZID=Europe/Berlin:20230506T140000
DTEND;TZID=Europe/Berlin:20230506T160000
LOCATION:Wilhelmplatz
GEO:52.510031;13.588071
URL;VALUE=URI:https://criticalmass.in/berlin/kidical-mass-berlin-marzahn-he
 llersdorf-mai-2023
END:VEVENT
END:VCALENDAR
