BEGIN:VCALENDAR
VERSION:2.0
PRODID:-//Sabre//Sabre VObject 4.5.8//EN
CALSCALE:GREGORIAN
BEGIN:VEVENT
UID:criticalmass-one-berlin-1652533200
DTSTAMP:20260424T211719Z
SUMMARY:Kidical Mass Marzahn-Hellersdorf 14. Mai 2022
DTSTART;TZID=Europe/Berlin:20220514T150000
DTEND;TZID=Europe/Berlin:20220514T170000
LOCATION:Freizeitforum Marzahn
GEO:52.545878;13.557065
URL;VALUE=URI:https://criticalmass.in/berlin/kidical-mass-berlin-marzahn-he
 llersdorf-mai-2022
END:VEVENT
END:VCALENDAR
