BEGIN:VCALENDAR
VERSION:2.0
PRODID:-//Sabre//Sabre VObject 4.5.8//EN
CALSCALE:GREGORIAN
BEGIN:VEVENT
UID:criticalmass-one-berlin-1778328000
DTSTAMP:20260419T160547Z
SUMMARY:Kidical Mass Neukölln
DESCRIPTION:14:00 Uhr – Treffen\n\nNord-Route: Columbia Bad\n\nSüd-Route
 : U-Bahnhof Britz-Süd\n\n15:00 Uhr – Start\n\n15:45 Uhr – Zusammentre
 ffen der beiden Routen an der Hertabrücke\n\n16:30 Uhr – Zwischenstopp 
 am Rathaus Neukölln\n\n17:15 Uhr – Ziel am Weichelplatz\n\nWeitere Info
 s und Routen: https://www.fahrradfreundliches-neukoelln.de/kidical-mass
DTSTART;TZID=Europe/Berlin:20260509T140000
DTEND;TZID=Europe/Berlin:20260509T160000
LOCATION:U-Bahnhof Britz Süd
GEO:52.437078;13.447695
URL;VALUE=URI:https://criticalmass.in/berlin/2026-05-09
END:VEVENT
END:VCALENDAR
