BEGIN:VCALENDAR
VERSION:2.0
PRODID:-//Sabre//Sabre VObject 4.5.8//EN
CALSCALE:GREGORIAN
BEGIN:VEVENT
UID:criticalmass-one-berlin-1708714800
DTSTAMP:20260423T004934Z
SUMMARY:Critical Mass Berlin 23.02.2024 - Gegen das Vergessen und für die 
 Menschlichkeit
DESCRIPTION:Lasst uns dieses Mal für die Menschlichkeit und gegen das Verg
 essen unterwegs sein ! Antisemitismus\, Rassismus\, und Ausgrenzung jeglic
 her Art dürfen bei uns keinen Platz haben !
DTSTART;TZID=Europe/Berlin:20240223T200000
DTEND;TZID=Europe/Berlin:20240223T220000
LOCATION:Mariannenplatz
GEO:52.505355;13.418255
URL;VALUE=URI:https://criticalmass.in/berlin/2024-02-23
END:VEVENT
END:VCALENDAR
