BEGIN:VCALENDAR
VERSION:2.0
PRODID:-//Sabre//Sabre VObject 4.5.8//EN
CALSCALE:GREGORIAN
BEGIN:VEVENT
UID:criticalmass-one-berlin-1527271200
DTSTAMP:20260421T125317Z
SUMMARY:Critical Mass Berlin 25.05.2018
DTSTART;TZID=Europe/Berlin:20180525T200000
DTEND;TZID=Europe/Berlin:20180525T220000
LOCATION:Mariannenplatz
GEO:52.505355;13.418255
URL;VALUE=URI:https://criticalmass.in/berlin/2018-05-25
END:VEVENT
END:VCALENDAR
