BEGIN:VCALENDAR
VERSION:2.0
PRODID:-//Sabre//Sabre VObject 4.5.8//EN
CALSCALE:GREGORIAN
BEGIN:VEVENT
UID:criticalmass-one-bergisch-gladbach-1664110800
DTSTAMP:20260424T070448Z
SUMMARY:Kidical Mass Bergisch Gladbach 25.09.2022
DTSTART;TZID=Europe/Berlin:20220925T150000
DTEND;TZID=Europe/Berlin:20220925T170000
LOCATION:Konrad-Adenauer-Platz
GEO:50.992004;7.130251
URL;VALUE=URI:https://criticalmass.in/bergisch-gladbach/kidical-mass-bergis
 ch-gladbach-september-2022
END:VEVENT
END:VCALENDAR
