BEGIN:VCALENDAR
VERSION:2.0
PRODID:-//Sabre//Sabre VObject 4.5.8//EN
CALSCALE:GREGORIAN
BEGIN:VEVENT
UID:criticalmass-one-bergisch-gladbach-1773421200
DTSTAMP:20260423T160858Z
SUMMARY:CMGL 13.03.2026
DTSTART;TZID=Europe/Berlin:20260313T180000
DTEND;TZID=Europe/Berlin:20260313T200000
LOCATION:Platz der Partnerstädte / S-Bahn Bergisch Gladbach
GEO:50.990921;7.124226
URL;VALUE=URI:https://criticalmass.in/bergisch-gladbach/2026-03-13
END:VEVENT
END:VCALENDAR
