BEGIN:VCALENDAR
VERSION:2.0
PRODID:-//Sabre//Sabre VObject 4.5.8//EN
CALSCALE:GREGORIAN
BEGIN:VEVENT
UID:criticalmass-one-bergisch-gladbach-1718380800
DTSTAMP:20260424T110026Z
SUMMARY:CMGL 14.06.2024
DTSTART;TZID=Europe/Berlin:20240614T180000
DTEND;TZID=Europe/Berlin:20240614T200000
LOCATION:Platz der Partnerstädte / S-Bahn Bergisch Gladbach
GEO:50.990921;7.124226
URL;VALUE=URI:https://criticalmass.in/bergisch-gladbach/2024-06-14
END:VEVENT
END:VCALENDAR
