BEGIN:VCALENDAR
VERSION:2.0
PRODID:-//Sabre//Sabre VObject 4.5.8//EN
CALSCALE:GREGORIAN
BEGIN:VEVENT
UID:criticalmass-one-bergisch-gladbach-1705078800
DTSTAMP:20260423T112259Z
SUMMARY:CMGL 12.01.2024
DTSTART;TZID=Europe/Berlin:20240112T180000
DTEND;TZID=Europe/Berlin:20240112T200000
LOCATION:Platz der Partnerstädte / S-Bahn Bergisch Gladbach
GEO:50.990921;7.124226
URL;VALUE=URI:https://criticalmass.in/bergisch-gladbach/2024-01-12
END:VEVENT
END:VCALENDAR
