BEGIN:VCALENDAR
VERSION:2.0
PRODID:-//Sabre//Sabre VObject 4.5.8//EN
CALSCALE:GREGORIAN
BEGIN:VEVENT
UID:criticalmass-one-bergisch-gladbach-1683907200
DTSTAMP:20260424T105926Z
SUMMARY:CMGL 12.05.2023
DTSTART;TZID=Europe/Berlin:20230512T180000
DTEND;TZID=Europe/Berlin:20230512T200000
LOCATION:Platz der Partnerstädte / S-Bahn Bergisch Gladbach
GEO:50.990921;7.124226
URL;VALUE=URI:https://criticalmass.in/bergisch-gladbach/2023-05-12
END:VEVENT
END:VCALENDAR
