BEGIN:VCALENDAR
VERSION:2.0
PRODID:-//Sabre//Sabre VObject 4.5.8//EN
CALSCALE:GREGORIAN
BEGIN:VEVENT
UID:criticalmass-one-bergisch-gladbach-1652457600
DTSTAMP:20260424T105926Z
SUMMARY:CMGL 13.05.2022
DTSTART;TZID=Europe/Berlin:20220513T180000
DTEND;TZID=Europe/Berlin:20220513T200000
LOCATION:Platz der Partnerstädte / S-Bahn Bergisch Gladbach
GEO:50.990921;7.124226
URL;VALUE=URI:https://criticalmass.in/bergisch-gladbach/2022-05-13
END:VEVENT
END:VCALENDAR
