BEGIN:VCALENDAR
VERSION:2.0
PRODID:-//Sabre//Sabre VObject 4.5.8//EN
CALSCALE:GREGORIAN
BEGIN:VEVENT
UID:criticalmass-one-bergisch-gladbach-1639155600
DTSTAMP:20260422T052003Z
SUMMARY:CMGL 10.12.2021
DTSTART;TZID=Europe/Berlin:20211210T180000
DTEND;TZID=Europe/Berlin:20211210T200000
LOCATION:Platz der Partnerstädte / S-Bahn Bergisch Gladbach
GEO:50.990921;7.124226
URL;VALUE=URI:https://criticalmass.in/bergisch-gladbach/2021-12-10
END:VEVENT
END:VCALENDAR
