BEGIN:VCALENDAR
VERSION:2.0
PRODID:-//Sabre//Sabre VObject 4.5.8//EN
CALSCALE:GREGORIAN
BEGIN:VEVENT
UID:criticalmass-one-bergisch-gladbach-1621008000
DTSTAMP:20260423T112221Z
SUMMARY:CMGL 14.05.2021
DTSTART;TZID=Europe/Berlin:20210514T180000
DTEND;TZID=Europe/Berlin:20210514T200000
LOCATION:Platz der Partnerstädte / S-Bahn Bergisch Gladbach
GEO:50.990921;7.124226
URL;VALUE=URI:https://criticalmass.in/bergisch-gladbach/2021-05-14
END:VEVENT
END:VCALENDAR
