BEGIN:VCALENDAR
VERSION:2.0
PRODID:-//Sabre//Sabre VObject 4.5.8//EN
CALSCALE:GREGORIAN
BEGIN:VEVENT
UID:criticalmass-one-bergisch-gladbach-1617976800
DTSTAMP:20260423T154646Z
SUMMARY:CMGL 09.04.2021
DTSTART;TZID=Europe/Berlin:20210409T160000
DTEND;TZID=Europe/Berlin:20210409T180000
LOCATION:Platz der Partnerstädte / S-Bahn Bergisch Gladbach
GEO:50.990921;7.124226
URL;VALUE=URI:https://criticalmass.in/bergisch-gladbach/2021-04-09
END:VEVENT
END:VCALENDAR
