BEGIN:VCALENDAR
VERSION:2.0
PRODID:-//Sabre//Sabre VObject 4.5.8//EN
CALSCALE:GREGORIAN
BEGIN:VEVENT
UID:criticalmass-one-bergisch-gladbach-1607706000
DTSTAMP:20260423T112127Z
SUMMARY:CMGL 11.12.2020
DTSTART;TZID=Europe/Berlin:20201211T180000
DTEND;TZID=Europe/Berlin:20201211T200000
LOCATION:Platz der Partnerstädte / S-Bahn Bergisch Gladbach
GEO:50.990921;7.124226
URL;VALUE=URI:https://criticalmass.in/bergisch-gladbach/2020-12-11
END:VEVENT
END:VCALENDAR
