BEGIN:VCALENDAR
VERSION:2.0
PRODID:-//Sabre//Sabre VObject 4.5.8//EN
CALSCALE:GREGORIAN
BEGIN:VEVENT
UID:criticalmass-one-bergisch-gladbach-1605286800
DTSTAMP:20260424T104921Z
SUMMARY:CMGL 13.11.2020
DTSTART;TZID=Europe/Berlin:20201113T180000
DTEND;TZID=Europe/Berlin:20201113T200000
LOCATION:Platz der Partnerstädte / S-Bahn Bergisch Gladbach
GEO:50.990921;7.124226
URL;VALUE=URI:https://criticalmass.in/bergisch-gladbach/2020-11-13
END:VEVENT
END:VCALENDAR
