BEGIN:VCALENDAR
VERSION:2.0
PRODID:-//Sabre//Sabre VObject 4.5.8//EN
CALSCALE:GREGORIAN
BEGIN:VEVENT
UID:criticalmass-one-bergisch-gladbach-1597420800
DTSTAMP:20260422T060740Z
SUMMARY:CMGL 14.08.2020
DTSTART;TZID=Europe/Berlin:20200814T180000
DTEND;TZID=Europe/Berlin:20200814T200000
LOCATION:Platz der Partnerstädte / S-Bahn Bergisch Gladbach
GEO:50.990921;7.124226
URL;VALUE=URI:https://criticalmass.in/bergisch-gladbach/2020-08-14
END:VEVENT
END:VCALENDAR
