BEGIN:VCALENDAR
VERSION:2.0
PRODID:-//Sabre//Sabre VObject 4.5.8//EN
CALSCALE:GREGORIAN
BEGIN:VEVENT
UID:criticalmass-one-bergisch-gladbach-1586534400
DTSTAMP:20260421T180457Z
SUMMARY:CMGL 10.04.2020
DTSTART;TZID=Europe/Berlin:20200410T180000
DTEND;TZID=Europe/Berlin:20200410T200000
LOCATION:Platz der Partnerstädte / S-Bahn Bergisch Gladbach
GEO:50.990921;7.124226
URL;VALUE=URI:https://criticalmass.in/bergisch-gladbach/2020-04-10
END:VEVENT
END:VCALENDAR
