BEGIN:VCALENDAR
VERSION:2.0
PRODID:-//Sabre//Sabre VObject 4.5.8//EN
CALSCALE:GREGORIAN
BEGIN:VEVENT
UID:criticalmass-one-bergisch-gladbach-1584118800
DTSTAMP:20260421T084045Z
SUMMARY:CMGL 03/20
DTSTART;TZID=Europe/Berlin:20200313T180000
DTEND;TZID=Europe/Berlin:20200313T200000
LOCATION:S-Bahn Bergisch Gladbach / Platz der Partnerstädte
URL;VALUE=URI:https://criticalmass.in/bergisch-gladbach/2020-03-13
END:VEVENT
END:VCALENDAR
