BEGIN:VCALENDAR
VERSION:2.0
PRODID:-//Sabre//Sabre VObject 4.5.8//EN
CALSCALE:GREGORIAN
BEGIN:VEVENT
UID:criticalmass-one-bergisch-gladbach-1578675600
DTSTAMP:20260423T232759Z
SUMMARY:Critical Mass Bergisch Gladbach 10.01.2020
DTSTART;TZID=Europe/Berlin:20200110T180000
DTEND;TZID=Europe/Berlin:20200110T200000
LOCATION:S-Bahnhof Bergisch Gladbach
GEO:50.990921;7.124226
URL;VALUE=URI:https://criticalmass.in/bergisch-gladbach/2020-01-10
END:VEVENT
END:VCALENDAR
