BEGIN:VCALENDAR
VERSION:2.0
PRODID:-//Sabre//Sabre VObject 4.5.8//EN
CALSCALE:GREGORIAN
BEGIN:VEVENT
UID:criticalmass-one-bergisch-gladbach-1565366400
DTSTAMP:20260421T084046Z
SUMMARY:CM GL 08/19
DTSTART;TZID=Europe/Berlin:20190809T180000
DTEND;TZID=Europe/Berlin:20190809T200000
LOCATION:S-Bahn Bergisch Gladbach / Platz der Partnerstädte
URL;VALUE=URI:https://criticalmass.in/bergisch-gladbach/2019-08-09
END:VEVENT
END:VCALENDAR
