BEGIN:VCALENDAR
VERSION:2.0
PRODID:-//Sabre//Sabre VObject 4.5.8//EN
CALSCALE:GREGORIAN
BEGIN:VEVENT
UID:criticalmass-one-bergisch-gladbach-1562947200
DTSTAMP:20260424T015450Z
SUMMARY:CM GL 07/19
DTSTART;TZID=Europe/Berlin:20190712T180000
DTEND;TZID=Europe/Berlin:20190712T200000
LOCATION:S-Bahn Bergisch Gladbach / Platz der Partnerstädte
URL;VALUE=URI:https://criticalmass.in/bergisch-gladbach/2019-07-12
END:VEVENT
END:VCALENDAR
