BEGIN:VCALENDAR
VERSION:2.0
PRODID:-//Sabre//Sabre VObject 4.5.8//EN
CALSCALE:GREGORIAN
BEGIN:VEVENT
UID:criticalmass-one-bergisch-gladbach-1557504000
DTSTAMP:20260422T113848Z
SUMMARY:CM GL 05/19
DTSTART;TZID=Europe/Berlin:20190510T180000
DTEND;TZID=Europe/Berlin:20190510T200000
LOCATION:S-Bahn Bergisch Gladbach / Platz der Partnerstädte
URL;VALUE=URI:https://criticalmass.in/bergisch-gladbach/2019-05-10
END:VEVENT
END:VCALENDAR
