BEGIN:VCALENDAR
VERSION:2.0
PRODID:-//Sabre//Sabre VObject 4.5.8//EN
CALSCALE:GREGORIAN
BEGIN:VEVENT
UID:criticalmass-one-bergisch-gladbach-1544806800
DTSTAMP:20260423T171707Z
SUMMARY:Critical Mass Bergisch-Gladbach 14.12.2018
DTSTART;TZID=Europe/Berlin:20181214T180000
DTEND;TZID=Europe/Berlin:20181214T200000
LOCATION:Bahnhof Bergisch-Gladbach
GEO:50.990921;7.124226
URL;VALUE=URI:https://criticalmass.in/bergisch-gladbach/2018-12-14
END:VEVENT
END:VCALENDAR
