BEGIN:VCALENDAR
VERSION:2.0
PRODID:-//Sabre//Sabre VObject 4.5.8//EN
CALSCALE:GREGORIAN
BEGIN:VEVENT
UID:criticalmass-one-bergisch-gladbach-1541782800
DTSTAMP:20260424T105849Z
SUMMARY:Critical Mass Bergisch-Gladbach 09.11.2018
DTSTART;TZID=Europe/Berlin:20181109T180000
DTEND;TZID=Europe/Berlin:20181109T200000
LOCATION:Bahnhof Bergisch-Gladbach
GEO:50.990921;7.124226
URL;VALUE=URI:https://criticalmass.in/bergisch-gladbach/2018-11-09
END:VEVENT
END:VCALENDAR
