BEGIN:VCALENDAR
VERSION:2.0
PRODID:-//Sabre//Sabre VObject 4.5.8//EN
CALSCALE:GREGORIAN
BEGIN:VEVENT
UID:criticalmass-one-bergisch-gladbach-1523635200
DTSTAMP:20260425T164807Z
SUMMARY:Critical Mass Bergisch-Gladbach 13.04.2018
DTSTART;TZID=Europe/Berlin:20180413T180000
DTEND;TZID=Europe/Berlin:20180413T200000
LOCATION:Bahnhof Bergisch-Gladbach
GEO:50.990921;7.124226
URL;VALUE=URI:https://criticalmass.in/bergisch-gladbach/2018-04-13
END:VEVENT
END:VCALENDAR
