BEGIN:VCALENDAR
VERSION:2.0
PRODID:-//Sabre//Sabre VObject 4.5.8//EN
CALSCALE:GREGORIAN
BEGIN:VEVENT
UID:criticalmass-one-bergedorf-1643997600
DTSTAMP:20260426T021748Z
SUMMARY:Critical Mass Bergedorf 04.02.2022
DESCRIPTION:Monatliche Fahrradtour durch Bergedorf am ersten Freitag im Mon
 at ab 19 Uhr. Treffen ist auf dem Bahnhofsvorplatz auf der Seite vom CCB (
 Bergedorf Seite).
DTSTART;TZID=Europe/Berlin:20220204T190000
DTEND;TZID=Europe/Berlin:20220204T210000
LOCATION:Bahnhofsvorplatz (CCB-Seite)
GEO:53.489099;10.207152
URL;VALUE=URI:https://criticalmass.in/bergedorf/2022-02-04
END:VEVENT
END:VCALENDAR
