BEGIN:VCALENDAR
VERSION:2.0
PRODID:-//Sabre//Sabre VObject 4.5.8//EN
CALSCALE:GREGORIAN
BEGIN:VEVENT
UID:criticalmass-one-bergedorf-1601658000
DTSTAMP:20260423T101212Z
SUMMARY:Restart Bergedorf
DESCRIPTION:Wir haben mal wieder Lust in Bergedorf eine kleine Tour zu mach
 en
DTSTART;TZID=Europe/Berlin:20201002T190000
DTEND;TZID=Europe/Berlin:20201002T210000
LOCATION:Bahnhofsvorplatz
GEO:53.488575;10.205601
URL;VALUE=URI:https://criticalmass.in/bergedorf/2020-10-02
END:VEVENT
END:VCALENDAR
