BEGIN:VCALENDAR
VERSION:2.0
PRODID:-//Sabre//Sabre VObject 4.5.8//EN
CALSCALE:GREGORIAN
BEGIN:VEVENT
UID:criticalmass-one-bergedorf-1411146000
DTSTAMP:20260425T231912Z
SUMMARY:Critical Mass Bergedorf 19.09.2014
DTSTART;TZID=Europe/Berlin:20140919T190000
DTEND;TZID=Europe/Berlin:20140919T210000
URL;VALUE=URI:https://criticalmass.in/bergedorf/2014-09-19
END:VEVENT
END:VCALENDAR
