BEGIN:VCALENDAR
VERSION:2.0
PRODID:-//Sabre//Sabre VObject 4.5.8//EN
CALSCALE:GREGORIAN
BEGIN:VEVENT
UID:criticalmass-one-bayreuth-1758358800
DTSTAMP:20260422T232812Z
SUMMARY:Kidical Mass Bayreuth 20.09.2025
DESCRIPTION:Kinder wollen selbstständig unterwegs sein – aber viele Stra
 ßen in Bayreuth und anderswo\nsind für sie noch immer zu gefährlich. Am
  Samstag\, den 20. September 2025\, um 11 Uhr\nstartet deshalb die sechste
  Kidical Mass in Bayreuth. Treffpunkt ist der La-Spezia-Platz.
DTSTART;TZID=Europe/Berlin:20250920T110000
DTEND;TZID=Europe/Berlin:20250920T130000
LOCATION:Bayreuth La-Spezia-Platz\, Bayreuth
GEO:49.945218;11.576341
URL;VALUE=URI:https://criticalmass.in/bayreuth/kidical-mass-bayreuth-septem
 ber-2025
END:VEVENT
END:VCALENDAR
