BEGIN:VCALENDAR
VERSION:2.0
PRODID:-//Sabre//Sabre VObject 4.5.8//EN
CALSCALE:GREGORIAN
BEGIN:VEVENT
UID:criticalmass-one-bayreuth-1747468800
DTSTAMP:20260424T181817Z
SUMMARY:Kidical Mass Bayreuth 17.05.2025
DESCRIPTION:10:00 Uhr Begrüßung danach 4 km Rundfahrt mit polizeilicher B
 egleitung\, im Anschluss kleines Programm mit Urkunde\, Ende gegen 12:00 U
 hr
DTSTART;TZID=Europe/Berlin:20250517T100000
DTEND;TZID=Europe/Berlin:20250517T120000
LOCATION:Bayreuth Ehrenhof
GEO:49.944167;11.576356
URL;VALUE=URI:https://criticalmass.in/bayreuth/kidical-mass-bayreuth-mai-20
 25
END:VEVENT
END:VCALENDAR
