BEGIN:VCALENDAR
VERSION:2.0
PRODID:-//Sabre//Sabre VObject 4.5.8//EN
CALSCALE:GREGORIAN
BEGIN:VEVENT
UID:criticalmass-one-bayreuth-1735318800
DTSTAMP:20260424T100626Z
SUMMARY:Critical Mass Bayreuth 27.12.2024
DTSTART;TZID=Europe/Berlin:20241227T180000
DTEND;TZID=Europe/Berlin:20241227T200000
LOCATION:Sternplatz\, Bayreuth
GEO:49.943329;11.577766
URL;VALUE=URI:https://criticalmass.in/bayreuth/2024-12-27
END:VEVENT
END:VCALENDAR
