BEGIN:VCALENDAR
VERSION:2.0
PRODID:-//Sabre//Sabre VObject 4.5.8//EN
CALSCALE:GREGORIAN
BEGIN:VEVENT
UID:criticalmass-one-bayreuth-1725033600
DTSTAMP:20260423T142956Z
SUMMARY:Critical Mass Bayreuth 30.08.2024
DTSTART;TZID=Europe/Berlin:20240830T180000
DTEND;TZID=Europe/Berlin:20240830T200000
LOCATION:Sternplatz\, Bayreuth
GEO:49.943329;11.577766
URL;VALUE=URI:https://criticalmass.in/bayreuth/2024-08-30
END:VEVENT
END:VCALENDAR
