BEGIN:VCALENDAR
VERSION:2.0
PRODID:-//Sabre//Sabre VObject 4.5.8//EN
CALSCALE:GREGORIAN
BEGIN:VEVENT
UID:criticalmass-one-bayreuth-1714147200
DTSTAMP:20260423T003315Z
SUMMARY:Critical Mass Bayreuth 26.04.2024
DTSTART;TZID=Europe/Berlin:20240426T180000
DTEND;TZID=Europe/Berlin:20240426T200000
LOCATION:Sternplatz\, Bayreuth
GEO:49.943329;11.577766
URL;VALUE=URI:https://criticalmass.in/bayreuth/2024-04-26
END:VEVENT
END:VCALENDAR
