BEGIN:VCALENDAR
VERSION:2.0
PRODID:-//Sabre//Sabre VObject 4.5.8//EN
CALSCALE:GREGORIAN
BEGIN:VEVENT
UID:criticalmass-one-basel-1757750400
DTSTAMP:20260425T004925Z
SUMMARY:Kidical Mass Basel 13.09.2025
DESCRIPTION:Der Veloumzug für Kinder und die ganze Familie
DTSTART;TZID=Europe/Zurich:20250913T100000
DTEND;TZID=Europe/Zurich:20250913T120000
LOCATION:Basel Gellertkirche Basel
GEO:47.549207;7.612762
URL;VALUE=URI:https://criticalmass.in/basel/kidical-mass-basel-september-20
 25
END:VEVENT
END:VCALENDAR
