BEGIN:VCALENDAR
VERSION:2.0
PRODID:-//Sabre//Sabre VObject 4.5.8//EN
CALSCALE:GREGORIAN
BEGIN:VEVENT
UID:criticalmass-one-basel-1726905600
DTSTAMP:20260425T004905Z
SUMMARY:Kidical Mass Basel 21.09.2024
DESCRIPTION:Die Kidical Mass Basel ist ein Veloumzug für Kinder und ihre F
 amilien. Wir wollen\, dass Kinder und Familien mit dem Velo sicher unterwe
 gs sein können. Mit unseren Velos\, Laufrädern\, Cargovelos oder Ähnlic
 hem fahren wir zusammen durch die Strassen Basels. 
DTSTART;TZID=Europe/Zurich:20240921T100000
DTEND;TZID=Europe/Zurich:20240921T120000
LOCATION:Basel Schützenmattpark beim Bundesplatz
GEO:47.551342;7.574684
URL;VALUE=URI:https://criticalmass.in/basel/kidical-mass-basel-september-20
 24
END:VEVENT
END:VCALENDAR
