BEGIN:VCALENDAR
VERSION:2.0
PRODID:-//Sabre//Sabre VObject 4.5.8//EN
CALSCALE:GREGORIAN
BEGIN:VEVENT
UID:criticalmass-one-basel-1746864000
DTSTAMP:20260424T190702Z
SUMMARY:Kidical Mass Basel 10.05.2025
DESCRIPTION:Die Kidical Mass Basel ist ein Veloumzug für Kinder und ihre 
 Familien. Wir wollen\, dass Kinder und Familien mit dem Velo sicher unterw
 egs sein können. Mit unseren Velos\, Laufrädern\, Cargovelos oder Ähnl
 ichem fahren wir zusammen durch die Strassen Basels. Gemeinsam sind wir di
 e Kidical Mass. Die Kidical Mass Basel wird von Pro Velo beider Basel und 
 Freiwilligen organisiert. Die Kidical Mass Basel ist Teil des Aktionsbünd
 nis Kidical Mass.
DTSTART;TZID=Europe/Zurich:20250510T100000
DTEND;TZID=Europe/Zurich:20250510T120000
LOCATION:Basel St. Johanns-Park
GEO:47.567724;7.582495
URL;VALUE=URI:https://criticalmass.in/basel/kidical-mass-basel-mai-2025
END:VEVENT
END:VCALENDAR
