BEGIN:VCALENDAR
VERSION:2.0
PRODID:-//Sabre//Sabre VObject 4.5.8//EN
CALSCALE:GREGORIAN
BEGIN:VEVENT
UID:criticalmass-one-basel-1753461000
DTSTAMP:20260425T130051Z
SUMMARY:Critical Mass Basel 25.07.2025
DTSTART;TZID=Europe/Zurich:20250725T183000
DTEND;TZID=Europe/Zurich:20250725T203000
LOCATION:Kollegienhaus\, Petersplatz\, Basel
GEO:47.558696;7.584075
URL;VALUE=URI:https://criticalmass.in/basel/2025-07-25
END:VEVENT
END:VCALENDAR
