BEGIN:VCALENDAR
VERSION:2.0
PRODID:-//Sabre//Sabre VObject 4.5.8//EN
CALSCALE:GREGORIAN
BEGIN:VEVENT
UID:criticalmass-one-basel-1722011400
DTSTAMP:20260426T021722Z
SUMMARY:Critical Mass Basel 26.07.2024
DTSTART;TZID=Europe/Zurich:20240726T183000
DTEND;TZID=Europe/Zurich:20240726T203000
LOCATION:Kollegienhaus\, Petersplatz\, Basel
GEO:47.558696;7.584075
URL;VALUE=URI:https://criticalmass.in/basel/2024-07-26
END:VEVENT
END:VCALENDAR
