BEGIN:VCALENDAR
VERSION:2.0
PRODID:-//Sabre//Sabre VObject 4.5.8//EN
CALSCALE:GREGORIAN
BEGIN:VEVENT
UID:criticalmass-one-basel-1706290200
DTSTAMP:20260425T115238Z
SUMMARY:Critical Mass Basel 26.01.2024
DTSTART;TZID=Europe/Zurich:20240126T183000
DTEND;TZID=Europe/Zurich:20240126T203000
LOCATION:Kollegienhaus\, Petersplatz\, Basel
GEO:47.558696;7.584075
URL;VALUE=URI:https://criticalmass.in/basel/2024-01-26
END:VEVENT
END:VCALENDAR
