BEGIN:VCALENDAR
VERSION:2.0
PRODID:-//Sabre//Sabre VObject 4.5.8//EN
CALSCALE:GREGORIAN
BEGIN:VEVENT
UID:criticalmass-one-basel-1656088200
DTSTAMP:20260425T032325Z
SUMMARY:Critical Mass Basel 24.06.2022
DTSTART;TZID=Europe/Zurich:20220624T183000
DTEND;TZID=Europe/Zurich:20220624T203000
LOCATION:Kollegienhaus\, Petersplatz\, Basel
GEO:47.558696;7.584075
URL;VALUE=URI:https://criticalmass.in/basel/2022-06-24
END:VEVENT
END:VCALENDAR
