BEGIN:VCALENDAR
VERSION:2.0
PRODID:-//Sabre//Sabre VObject 4.5.8//EN
CALSCALE:GREGORIAN
BEGIN:VEVENT
UID:criticalmass-one-basel-1653669000
DTSTAMP:20260426T021754Z
SUMMARY:Critical Mass Basel 27.05.2022
DTSTART;TZID=Europe/Zurich:20220527T183000
DTEND;TZID=Europe/Zurich:20220527T203000
LOCATION:Kollegienhaus\, Petersplatz\, Basel
GEO:47.558696;7.584075
URL;VALUE=URI:https://criticalmass.in/basel/2022-05-27
END:VEVENT
END:VCALENDAR
