BEGIN:VCALENDAR
VERSION:2.0
PRODID:-//Sabre//Sabre VObject 4.5.8//EN
CALSCALE:GREGORIAN
BEGIN:VEVENT
UID:criticalmass-one-basel-1596213000
DTSTAMP:20260424T213729Z
SUMMARY:Critical Mass Basel 31.07.2020
DTSTART;TZID=Europe/Zurich:20200731T183000
DTEND;TZID=Europe/Zurich:20200731T203000
LOCATION:Kollegienhaus\, Petersplatz\, Basel
GEO:47.558696;7.584075
URL;VALUE=URI:https://criticalmass.in/basel/2020-07-31
END:VEVENT
END:VCALENDAR
