BEGIN:VCALENDAR
VERSION:2.0
PRODID:-//Sabre//Sabre VObject 4.5.8//EN
CALSCALE:GREGORIAN
BEGIN:VEVENT
UID:criticalmass-one-bad-segeberg-1600446600
DTSTAMP:20260424T121738Z
SUMMARY:Critical Mass in Bad Segeberg
DESCRIPTION:Liebe Radfahrer:innen aus und um\nBad Segeberg !\n\nAm Freitag\
 , den 18. September 2020 findet ab\n18.30 Uhr eine Radtour im Rahmen einer
  Critical\nMass statt.\nTreffen ist auf dem Parkplatz an der Rennkoppel\ni
 n Bad Segeberg. (Zufahrt ist von der Eutiner Straße.)\n\nWir fahren in ei
 nem gemütlichen Tempo durch\nBad Segeberg.\nTeilnehmer:     alle\, die ge
 rn Rad fahren\nDauer:             ca. 1\,5 Stunden\n\nBist Du dabei ?\nWir
  freuen uns auf Euch / Dich !
DTSTART;TZID=Europe/Berlin:20200918T183000
DTEND;TZID=Europe/Berlin:20200918T203000
LOCATION:Parkplatz an der Rennkoppel
GEO:53.947449;10.309210
URL;VALUE=URI:https://criticalmass.in/bad-segeberg/2020-09-18
END:VEVENT
END:VCALENDAR
