BEGIN:VCALENDAR
VERSION:2.0
PRODID:-//Sabre//Sabre VObject 4.5.8//EN
CALSCALE:GREGORIAN
BEGIN:VEVENT
UID:criticalmass-one-bad-neuenahr-ahrweiler-1683363600
DTSTAMP:20260423T113305Z
SUMMARY:Kidical Mass Bad Neuenahr-Ahrweiler 06.05.2023
DTSTART;TZID=Europe/Berlin:20230506T110000
DTEND;TZID=Europe/Berlin:20230506T130000
LOCATION:Bahnhof Bad Neuenahr
GEO:50.544617;7.136468
URL;VALUE=URI:https://criticalmass.in/bad-neuenahr-ahrweiler/kidical-mass-b
 ad-neuenahr-ahrweiler-mai-2023
END:VEVENT
END:VCALENDAR
